BEGIN:VCALENDAR
PRODID:-//kirchenweb.ch gmbh//veranstaltungsausgabe v2.0//DE
VERSION:2.0
METHOD:PUBLISH
BEGIN:VEVENT
DTSTART:20260506T120000Z
DTEND:20260506T130000Z
LOCATION:Fabrikli\,  Grabenstrasse 60\, 4814 Bottenwil
TRANSP:OPAQUE
SEQUENCE:0
UID:18243-veranstaltung@kirche-schoeftland.ch
DTSTAMP:20260421T160536Z
DESCRIPTION:Wer gerne abgeholt werden möchte\, melde sich bitte bei
 \nElisabeth Meyer 078 660 54 09\n\nKontakt:
  anita.morgenthaler@kirche-schoeftland.ch\n\nWeitere Infos:
  https://www.kirche-schoeftland.ch/veranstaltung/18243
SUMMARY:Seniorennachmittag Bottenwil
PRIORITY:5
X-MICROSOFT-CDO-IMPORTANCE:1
CLASS:PUBLIC
END:VEVENT
END:VCALENDAR
