BEGIN:VCALENDAR
PRODID:-//kirchenweb.ch gmbh//veranstaltungsausgabe v2.0//DE
VERSION:2.0
METHOD:PUBLISH
BEGIN:VEVENT
DTSTART:20260513T110000Z
DTEND:20260513T120000Z
LOCATION:Kirchgemeindehaus Schöftland\, Bahnhofstrasse 1\, 5040
  Schöftland
TRANSP:OPAQUE
SEQUENCE:0
UID:18240-veranstaltung@kirche-schoeftland.ch
DTSTAMP:20260420T065006Z
DESCRIPTION:Kontakt: Pfr. Beat Müller und Diak. MA Marcel Hauri\n
 \nWeitere Infos: https://www.kirche-schoeftland.ch/veranstaltung/18240
SUMMARY:Übergangsevent für 6. Klässler (Abschluss mit Abseilen)
PRIORITY:5
X-MICROSOFT-CDO-IMPORTANCE:1
CLASS:PUBLIC
END:VEVENT
END:VCALENDAR
