BEGIN:VCALENDAR
PRODID:-//kirchenweb.ch gmbh//veranstaltungsausgabe v2.0//DE
VERSION:2.0
METHOD:PUBLISH
BEGIN:VEVENT
DTSTART:20270321T170000Z
DTEND:20270321T180000Z
LOCATION:Kirche Schöftland\, Bahnhofstrasse 1\, 5040 Schöftland
TRANSP:OPAQUE
SEQUENCE:0
UID:18214-veranstaltung@kirche-schoeftland.ch
DTSTAMP:20260401T094338Z
DESCRIPTION:Kontakt: Pfarrer Beat Müller\nDiakonischer Mitarbeiter Marcel
  Hauri\n\nWeitere Infos:
  https://www.kirche-schoeftland.ch/veranstaltung/18214
SUMMARY:One Way Jugendgottesdienst
PRIORITY:5
X-MICROSOFT-CDO-IMPORTANCE:1
CLASS:PUBLIC
END:VEVENT
END:VCALENDAR
