BEGIN:VCALENDAR
PRODID:-//kirchenweb.ch gmbh//veranstaltungsausgabe v2.0//DE
VERSION:2.0
METHOD:PUBLISH
BEGIN:VEVENT
DTSTART:20260823T150000Z
DTEND:20260823T160000Z
LOCATION:Ausser Haus/Ausflug\, \,
TRANSP:OPAQUE
SEQUENCE:0
UID:17842-veranstaltung@kirche-schoeftland.ch
DTSTAMP:20251119T132928Z
DESCRIPTION:siehe Open Air Tauf-Gottesdienst an der Suhre\n\nKontakt: Pfr.
  Beat Müller\n\nWeitere Infos:
  https://www.kirche-schoeftland.ch/veranstaltung/17842
SUMMARY:One Way Jugendgottesdienst
PRIORITY:5
X-MICROSOFT-CDO-IMPORTANCE:1
CLASS:PUBLIC
END:VEVENT
END:VCALENDAR
