BEGIN:VCALENDAR
PRODID:-//kirchenweb.ch gmbh//veranstaltungsausgabe v2.0//DE
VERSION:2.0
METHOD:PUBLISH
BEGIN:VEVENT
DTSTART:20261129T160000Z
DTEND:20261129T170000Z
LOCATION:Hirschmatt\, Trottengasse 4\, 5042 Hirschthal
TRANSP:OPAQUE
SEQUENCE:0
UID:17801-veranstaltung@kirche-schoeftland.ch
DTSTAMP:20251118T145437Z
DESCRIPTION:Kontakt: Pfrn. Christine Bürk\n\nWeitere Infos:
  https://www.kirche-schoeftland.ch/veranstaltung/17801
SUMMARY:Abendgottesdienst in Hirschthal
PRIORITY:5
X-MICROSOFT-CDO-IMPORTANCE:1
CLASS:PUBLIC
END:VEVENT
END:VCALENDAR
