BEGIN:VCALENDAR
PRODID:-//kirchenweb.ch gmbh//veranstaltungsausgabe v2.0//DE
VERSION:2.0
METHOD:PUBLISH
BEGIN:VEVENT
DTSTART:20261018T150000Z
DTEND:20261018T160000Z
LOCATION:Kirche Schöftland\, Bahnhofstrasse 1\, 5040 Schöftland
TRANSP:OPAQUE
SEQUENCE:0
UID:17795-veranstaltung@kirche-schoeftland.ch
DTSTAMP:20251118T144430Z
DESCRIPTION:Kontakt: Pfr. Beat Müller\n\nWeitere Infos:
  https://www.kirche-schoeftland.ch/veranstaltung/17795
SUMMARY:Abendgottesdienst mit Konfestivalrückblick und anschliessendem
  Wähenessen
PRIORITY:5
X-MICROSOFT-CDO-IMPORTANCE:1
CLASS:PUBLIC
END:VEVENT
END:VCALENDAR
