BEGIN:VCALENDAR
PRODID:-//kirchenweb.ch gmbh//veranstaltungsausgabe v2.0//DE
VERSION:2.0
METHOD:PUBLISH
BEGIN:VEVENT
DTSTART:20260419T073000Z
DTEND:20260419T083000Z
LOCATION:Hirschmatt\, Trottengasse 4\, 5042 Hirschthal
TRANSP:OPAQUE
SEQUENCE:0
UID:17768-veranstaltung@kirche-schoeftland.ch
DTSTAMP:20260418T124124Z
DESCRIPTION:Kontakt: Pfr. Daniel Hintermann\n\nWeitere Infos:
  https://www.kirche-schoeftland.ch/veranstaltung/17768
SUMMARY:Gottesdient in Hirschthal
PRIORITY:5
X-MICROSOFT-CDO-IMPORTANCE:1
CLASS:PUBLIC
END:VEVENT
END:VCALENDAR
