BEGIN:VCALENDAR
PRODID:-//kirchenweb.ch gmbh//veranstaltungsausgabe v2.0//DE
VERSION:2.0
METHOD:PUBLISH
BEGIN:VEVENT
DTSTART:20260712T073000Z
DTEND:20260712T083000Z
LOCATION:Kirche Schöftland\, Bahnhofstrasse 1\, 5040 Schöftland
TRANSP:OPAQUE
SEQUENCE:0
UID:17756-veranstaltung@kirche-schoeftland.ch
DTSTAMP:20251118T141206Z
DESCRIPTION:Kollekte\nTwinten Sie mit untenstehendem QR-Code. Die Spenden
  gehen jeweils von Sonntag bis Samstag anonym an die aktuelle Kollekte.\n
 \n      \n\n\n\n\n\n\n\n\n\n\nKontakt: Pfrn. Dörte Gebhard\n\nWeitere
  Infos: https://www.kirche-schoeftland.ch/veranstaltung/17756
SUMMARY:Gottesdienst (Taufsonntag) Schlosshof-Open-Air
PRIORITY:5
X-MICROSOFT-CDO-IMPORTANCE:1
CLASS:PUBLIC
END:VEVENT
END:VCALENDAR
