BEGIN:VCALENDAR
PRODID:-//kirchenweb.ch gmbh//veranstaltungsausgabe v2.0//DE
VERSION:2.0
METHOD:PUBLISH
BEGIN:VEVENT
DTSTART:20260621T170000Z
DTEND:20260621T180000Z
LOCATION:Kirche Schöftland\, Bahnhofstrasse 1\, 5040 Schöftland
TRANSP:OPAQUE
SEQUENCE:0
UID:17754-veranstaltung@kirche-schoeftland.ch
DTSTAMP:20251118T140520Z
DESCRIPTION:Predigtreihe III\n\nKollekte\nTwinten Sie mit untenstehendem
  QR-Code. Die Spenden gehen jeweils von Sonntag bis Samstag anonym an die
  aktuelle Kollekte.\n\n      \n\n\n\n\n\n\n\n\n\n\nKontakt: Pfrn. Dörte
  Gebhard\n\nWeitere Infos:
  https://www.kirche-schoeftland.ch/veranstaltung/17754
SUMMARY:Abendgottesdienst
PRIORITY:5
X-MICROSOFT-CDO-IMPORTANCE:1
CLASS:PUBLIC
END:VEVENT
END:VCALENDAR
