BEGIN:VCALENDAR
PRODID:-//kirchenweb.ch gmbh//veranstaltungsausgabe v2.0//DE
VERSION:2.0
METHOD:PUBLISH
BEGIN:VEVENT
DTSTART:20261025T170000Z
DTEND:20261025T180000Z
LOCATION:Kirche Schöftland\, Bahnhofstrasse 1\, 5040 Schöftland
TRANSP:OPAQUE
SEQUENCE:0
UID:17721-veranstaltung@kirche-schoeftland.ch
DTSTAMP:20251117T103637Z
DESCRIPTION:Kontakt: Pfarrer Beat Müller\nDiakonischer Mitarbeiter Marcel
  Hauri\n\nWeitere Infos:
  https://www.kirche-schoeftland.ch/veranstaltung/17721
SUMMARY:One Way Jugendgottesdienst
PRIORITY:5
X-MICROSOFT-CDO-IMPORTANCE:1
CLASS:PUBLIC
END:VEVENT
END:VCALENDAR
