BEGIN:VCALENDAR
PRODID:-//kirchenweb.ch gmbh//veranstaltungsausgabe v2.0//DE
VERSION:2.0
METHOD:PUBLISH
BEGIN:VEVENT
DTSTART:20260520T170000Z
DTEND:20260520T200000Z
LOCATION:Kirchgemeindehaus Schöftland\, Bahnhofstrasse 1\, 5040
  Schöftland
TRANSP:OPAQUE
SEQUENCE:0
UID:17594-veranstaltung@kirche-schoeftland.ch
DTSTAMP:20251029T134603Z
DESCRIPTION:Tanzgruppe\n\nKontakt: Marcel Hauri \n\nWeitere Infos:
  https://www.kirche-schoeftland.ch/veranstaltung/17594
SUMMARY:roundabout youth
PRIORITY:5
X-MICROSOFT-CDO-IMPORTANCE:1
CLASS:PUBLIC
END:VEVENT
END:VCALENDAR
