BEGIN:VCALENDAR
PRODID:-//kirchenweb.ch gmbh//veranstaltungsausgabe v2.0//DE
VERSION:2.0
METHOD:PUBLISH
BEGIN:VEVENT
DTSTART:20260422T153000Z
DTEND:20260422T164500Z
LOCATION:Kirchgemeindehaus Schöftland\, Bahnhofstrasse 1\, 5040
  Schöftland
TRANSP:OPAQUE
SEQUENCE:0
UID:17552-veranstaltung@kirche-schoeftland.ch
DTSTAMP:20251029T134407Z
DESCRIPTION:Streetdance-Angebot für Mädchen von 8 bis 12 Jahren\n\n\n
 \nKontakt: Marcel Hauri \nSherry Hürzeler\n\nWeitere Infos:
  https://www.kirche-schoeftland.ch/veranstaltung/17552
SUMMARY:roundabout kids
PRIORITY:5
X-MICROSOFT-CDO-IMPORTANCE:1
CLASS:PUBLIC
END:VEVENT
END:VCALENDAR
