BEGIN:VCALENDAR
PRODID:-//kirchenweb.ch gmbh//veranstaltungsausgabe v2.0//DE
VERSION:2.0
METHOD:PUBLISH
BEGIN:VEVENT
DTSTART:20260814T173000Z
DTEND:20260814T183000Z
LOCATION:Jugendraum im Kirchgemeindehaus\, Bahnhofstrasse 1\, 5040
  Schöftland
TRANSP:OPAQUE
SEQUENCE:0
UID:17534-veranstaltung@kirche-schoeftland.ch
DTSTAMP:20251029T134130Z
DESCRIPTION:Kontakt: Marcel Hauri \n\nWeitere Infos:
  https://www.kirche-schoeftland.ch/veranstaltung/17534
SUMMARY:Jugendtreff downtown
PRIORITY:5
X-MICROSOFT-CDO-IMPORTANCE:1
CLASS:PUBLIC
END:VEVENT
END:VCALENDAR
