BEGIN:VCALENDAR
PRODID:-//kirchenweb.ch gmbh//veranstaltungsausgabe v2.0//DE
VERSION:2.0
METHOD:PUBLISH
BEGIN:VEVENT
DTSTART:20260508T160000Z
DTEND:20260508T173000Z
LOCATION:Kirchgemeindehaus Schöftland\, Bahnhofstrasse 1\, 5040
  Schöftland
TRANSP:OPAQUE
SEQUENCE:0
UID:17509-veranstaltung@kirche-schoeftland.ch
DTSTAMP:20251029T134014Z
DESCRIPTION:Im Preteens - Programm wird die Gemeinschaft mit
  Gleichaltrigen gepflegt\, Spiele gespielt\, über die Bibel und den
  Glauben gesprochen\, gelacht und vieles mehr. Das Ziel dieses Programms
  ist\, den Glauben an Jesus Christus nahe zu bringen und die Gemeinschaft
  zu fördern. \n\nKontakt: Marcel Hauri \n\nWeitere Infos:
  https://www.kirche-schoeftland.ch/veranstaltung/17509
SUMMARY:Preteens-Programm für 6. Klässler
PRIORITY:5
X-MICROSOFT-CDO-IMPORTANCE:1
CLASS:PUBLIC
END:VEVENT
END:VCALENDAR
