BEGIN:VCALENDAR
PRODID:-//kirchenweb.ch gmbh//veranstaltungsausgabe v2.0//DE
VERSION:2.0
METHOD:PUBLISH
BEGIN:VEVENT
DTSTART:20261201T131500Z
DTEND:20261201T160000Z
LOCATION:Kirchgemeindehaus Schöftland\, Bahnhofstrasse 1\, 5040
  Schöftland
TRANSP:OPAQUE
SEQUENCE:0
UID:17266-veranstaltung@kirche-schoeftland.ch
DTSTAMP:20250908T100443Z
DESCRIPTION:Kontakt: Pfr. Daniel Hintermann\nPfrn. Christine Bürk\nDM
  Marcel Hauri \n\nWeitere Infos:
  https://www.kirche-schoeftland.ch/veranstaltung/17266
SUMMARY:65+ Nachmittag
PRIORITY:5
X-MICROSOFT-CDO-IMPORTANCE:1
CLASS:PUBLIC
END:VEVENT
END:VCALENDAR
