BEGIN:VCALENDAR
PRODID:-//kirchenweb.ch gmbh//veranstaltungsausgabe v2.0//DE
VERSION:2.0
METHOD:PUBLISH
BEGIN:VEVENT
DTSTART:20260609T081500Z
DTEND:20260609T091500Z
LOCATION:Kirchgemeindehaus Schöftland\, Bahnhofstrasse 1\, 5040
  Schöftland
TRANSP:OPAQUE
SEQUENCE:0
UID:17230-veranstaltung@kirche-schoeftland.ch
DTSTAMP:20250908T100021Z
DESCRIPTION:Für die Teilnahme via zoom gilt folgender Zugang: 
 \nMeeting-ID: 258 512 9491\nKenncode: 329851
 \nhttps://uzh.zoom.us/j/2585129491?pwd=elBJTUc1QXlhSnNYb01iVXY2VU1hdz09\n
 \nKontakt: Pfrn. Dörte Gebhard\n\nWeitere Infos:
  https://www.kirche-schoeftland.ch/veranstaltung/17230
SUMMARY:Bibelgesprächskreis
PRIORITY:5
X-MICROSOFT-CDO-IMPORTANCE:1
CLASS:PUBLIC
END:VEVENT
END:VCALENDAR
