BEGIN:VCALENDAR
PRODID:-//kirchenweb.ch gmbh//veranstaltungsausgabe v2.0//DE
VERSION:2.0
METHOD:PUBLISH
BEGIN:VEVENT
DTSTART:20260428T070000Z
DTEND:20260428T080000Z
LOCATION:Kirchgemeindehaus Schöftland\, Bahnhofstrasse 1\, 5040
  Schöftland
TRANSP:OPAQUE
SEQUENCE:0
UID:17207-veranstaltung@kirche-schoeftland.ch
DTSTAMP:20250908T095904Z
DESCRIPTION:Kontakt: Pfrn. Dörte Gebhard\n\nWeitere Infos:
  https://www.kirche-schoeftland.ch/veranstaltung/17207
SUMMARY:Bibelgesprächskreis
PRIORITY:5
X-MICROSOFT-CDO-IMPORTANCE:1
CLASS:PUBLIC
END:VEVENT
END:VCALENDAR
