BEGIN:VCALENDAR
PRODID:-//kirchenweb.ch gmbh//veranstaltungsausgabe v2.0//DE
VERSION:2.0
METHOD:PUBLISH
BEGIN:VEVENT
DTSTART:20261114T080000Z
DTEND:20261114T104500Z
LOCATION:Kirchgemeindehaus Schöftland\, Bahnhofstrasse 1\, 5040
  Schöftland
TRANSP:OPAQUE
SEQUENCE:0
UID:17163-veranstaltung@kirche-schoeftland.ch
DTSTAMP:20250819T193415Z
DESCRIPTION:Kontakt: Marcel Hauri \n\nWeitere Infos:
  https://www.kirche-schoeftland.ch/veranstaltung/17163
SUMMARY:Kindermorgen
PRIORITY:5
X-MICROSOFT-CDO-IMPORTANCE:1
CLASS:PUBLIC
END:VEVENT
END:VCALENDAR
