BEGIN:VCALENDAR
PRODID:-//kirchenweb.ch gmbh//veranstaltungsausgabe v2.0//DE
VERSION:2.0
METHOD:PUBLISH
BEGIN:VEVENT
DTSTART:20260920T100000Z
DTEND:20260920T110000Z
LOCATION:Kirchgemeindehaus Schöftland\, Bahnhofstrasse 1\, 5040
  Schöftland
TRANSP:OPAQUE
SEQUENCE:0
UID:17159-veranstaltung@kirche-schoeftland.ch
DTSTAMP:20251119T133517Z
DESCRIPTION:Spezielles Programm folgt\n\nKontakt: Marcel Hauri \n\nWeitere
  Infos: https://www.kirche-schoeftland.ch/veranstaltung/17159
SUMMARY:One Way Jugendgottesdienst (10 Jahre)
PRIORITY:5
X-MICROSOFT-CDO-IMPORTANCE:1
CLASS:PUBLIC
END:VEVENT
END:VCALENDAR
